BEGIN:VCALENDAR
VERSION:2.0
PRODID:-//Digital insurtech Hub - ECPv6.15.20//NONSGML v1.0//EN
CALSCALE:GREGORIAN
METHOD:PUBLISH
X-ORIGINAL-URL:https://instech.gr
X-WR-CALDESC:Events for Digital insurtech Hub
REFRESH-INTERVAL;VALUE=DURATION:PT1H
X-Robots-Tag:noindex
X-PUBLISHED-TTL:PT1H
BEGIN:VTIMEZONE
TZID:UTC
BEGIN:STANDARD
TZOFFSETFROM:+0000
TZOFFSETTO:+0000
TZNAME:UTC
DTSTART:20160101T000000
END:STANDARD
END:VTIMEZONE
BEGIN:VEVENT
DTSTART;TZID=UTC:20210609T090000
DTEND;TZID=UTC:20210609T150000
DTSTAMP:20260420T123718
CREATED:20170825T201213Z
LAST-MODIFIED:20201111T181310Z
UID:13779-1623229200-1623250800@instech.gr
SUMMARY:Credit Risk
DESCRIPTION:Description\n\n	\n	\n	\n\n\n	\n		\n	Moody’s Analytics works with clients to deliver end-to-end\, blended learning solutions for high-quality\, consistent\, and cost-effective banking and financial markets training globally.\nOur cutting-edge\, adaptive eLearning and online testing will help you build a solid foundation in core competencies. With the foundation in place\, you can focus on building proficiency in advanced topics via our highly-interactive\, case study-focused classroom and web sessions that are facilitated by expert practitioners.\nGet advice from our experienced team on how our blended approach can help you achieve your learning objectives in an effective and cost-efficient way. \nRequest more information to learn about how we are helping our clients and partners\, including: \n\n	\n\n\n\n			\n	\n	\n		\n	\nUnderstand cash flow and its role in the credit risk assessment process\nInterpret the impact of primary cash drivers\nPrepare projections to assess future cash flow quality\n\n\n	\n\n\n\n			\n	\n	\n		\n	\nProject future cash flow\, debt service cover\, and credit needs\nIdentify potential liquidity problems before they become a threat\nAssess cash flow issues specific to international companies
URL:https://instech.gr/classes/credit-risk/
LOCATION:Thessaloniki GR\, 25 Μαρτίου\, Thessaloniki\, 54248\, Greece
CATEGORIES:Starter,Tires
ATTACH;FMTTYPE=image/jpeg:https://instech.gr/wp-content/uploads/2017/08/Event5.jpg
END:VEVENT
BEGIN:VEVENT
DTSTART;VALUE=DATE:20170914
DTEND;VALUE=DATE:20201015
DTSTAMP:20260420T123718
CREATED:20170825T202445Z
LAST-MODIFIED:20170825T202445Z
UID:13791-1505347200-1602719999@instech.gr
SUMMARY:Blended Solutions for Companies
DESCRIPTION:Description\n\n	\n	\n	\n\n\n	\n		\n	Moody’s Analytics works with clients to deliver end-to-end\, blended learning solutions for high-quality\, consistent\, and cost-effective banking and financial markets training globally.\nOur cutting-edge\, adaptive eLearning and online testing will help you build a solid foundation in core competencies. With the foundation in place\, you can focus on building proficiency in advanced topics via our highly-interactive\, case study-focused classroom and web sessions that are facilitated by expert practitioners.\nGet advice from our experienced team on how our blended approach can help you achieve your learning objectives in an effective and cost-efficient way. \nRequest more information to learn about how we are helping our clients and partners\, including: \n\n	\n\n\n\n			\n	\n	\n		\n	\nUnderstand cash flow and its role in the credit risk assessment process\nInterpret the impact of primary cash drivers\nPrepare projections to assess future cash flow quality\n\n\n	\n\n\n\n			\n	\n	\n		\n	\nProject future cash flow\, debt service cover\, and credit needs\nIdentify potential liquidity problems before they become a threat\nAssess cash flow issues specific to international companies
URL:https://instech.gr/classes/blended-solutions-for-companies/
LOCATION:Thessaloniki GR\, 25 Μαρτίου\, Thessaloniki\, 54248\, Greece
CATEGORIES:Headlights & Lighting,Starter,Tires,Yoga,Аccessories
ATTACH;FMTTYPE=image/jpeg:https://instech.gr/wp-content/uploads/2017/08/Event7.jpg
ORGANIZER;CN="Eddie Adkins":MAILTO:junk@vamtam.com
END:VEVENT
BEGIN:VEVENT
DTSTART;TZID=UTC:20170829T080000
DTEND;TZID=UTC:20200829T170000
DTSTAMP:20260420T123718
CREATED:20170825T193338Z
LAST-MODIFIED:20170825T193338Z
UID:13757-1503993600-1598720400@instech.gr
SUMMARY:Credit Analysis
DESCRIPTION:Description\n\n	\n	\n	\n\n\n	\n		\n	Moody’s Analytics works with clients to deliver end-to-end\, blended learning solutions for high-quality\, consistent\, and cost-effective banking and financial markets training globally.\nOur cutting-edge\, adaptive eLearning and online testing will help you build a solid foundation in core competencies. With the foundation in place\, you can focus on building proficiency in advanced topics via our highly-interactive\, case study-focused classroom and web sessions that are facilitated by expert practitioners.\nGet advice from our experienced team on how our blended approach can help you achieve your learning objectives in an effective and cost-efficient way. \nRequest more information to learn about how we are helping our clients and partners\, including: \n\n	\n\n\n\n			\n	\n	\n		\n	\nUnderstand cash flow and its role in the credit risk assessment process\nInterpret the impact of primary cash drivers\nPrepare projections to assess future cash flow quality\n\n\n	\n\n\n\n			\n	\n	\n		\n	\nProject future cash flow\, debt service cover\, and credit needs\nIdentify potential liquidity problems before they become a threat\nAssess cash flow issues specific to international companies
URL:https://instech.gr/classes/credit-analysis/
LOCATION:Thessaloniki GR\, 25 Μαρτίου\, Thessaloniki\, 54248\, Greece
CATEGORIES:Tires,Аccessories
ATTACH;FMTTYPE=image/jpeg:https://instech.gr/wp-content/uploads/2017/08/Event2.jpg
ORGANIZER;CN="Karla Avala":MAILTO:junk@vamtam.com
END:VEVENT
END:VCALENDAR